BEGIN:VCALENDAR
VERSION:2.0
PRODID:-//Equal Opportunity - ECPv6.3.7//NONSGML v1.0//EN
CALSCALE:GREGORIAN
METHOD:PUBLISH
X-WR-CALNAME:Equal Opportunity
X-ORIGINAL-URL:https://equalopportunity.uob.edu.bh
X-WR-CALDESC:Events for Equal Opportunity
REFRESH-INTERVAL;VALUE=DURATION:PT1H
X-Robots-Tag:noindex
X-PUBLISHED-TTL:PT1H
BEGIN:VTIMEZONE
TZID:UTC
BEGIN:STANDARD
TZOFFSETFROM:+0000
TZOFFSETTO:+0000
TZNAME:UTC
DTSTART:20230101T000000
END:STANDARD
END:VTIMEZONE
BEGIN:VEVENT
DTSTART;TZID=UTC:20231018T080000
DTEND;TZID=UTC:20231018T170000
DTSTAMP:20260423T164130
CREATED:20231122T105003Z
LAST-MODIFIED:20231122T105006Z
UID:1197-1697616000-1697648400@equalopportunity.uob.edu.bh
SUMMARY:خطوة نحو الحياة
DESCRIPTION:افتتح رئيس جامعة البحرين الدكتور فؤاد محمد الأنصاري، الفعالية التثقيفية التوعوية “خطوة نحو الحياة” للتوعية بسرطان الثدي، الذي نظمته لجنة تكافؤ الفرص بالجامعة، تفاعلاً مع الشهر العالمي للتوعية بسرطان الثدي.
URL:https://equalopportunity.uob.edu.bh/event/%d8%ae%d8%b7%d9%88%d8%a9-%d9%86%d8%ad%d9%88-%d8%a7%d9%84%d8%ad%d9%8a%d8%a7%d8%a9/
ATTACH;FMTTYPE=image/jpeg:https://equalopportunity.uob.edu.bh/wp-content/uploads/2023/11/UOB_7519-scaled.jpg
END:VEVENT
END:VCALENDAR