BEGIN:VCALENDAR
VERSION:2.0
PRODID:-//Equal Opportunity - ECPv6.3.7//NONSGML v1.0//EN
CALSCALE:GREGORIAN
METHOD:PUBLISH
X-WR-CALNAME:Equal Opportunity
X-ORIGINAL-URL:https://equalopportunity.uob.edu.bh
X-WR-CALDESC:Events for Equal Opportunity
REFRESH-INTERVAL;VALUE=DURATION:PT1H
X-Robots-Tag:noindex
X-PUBLISHED-TTL:PT1H
BEGIN:VTIMEZONE
TZID:UTC
BEGIN:STANDARD
TZOFFSETFROM:+0000
TZOFFSETTO:+0000
TZNAME:UTC
DTSTART:20080101T000000
END:STANDARD
END:VTIMEZONE
BEGIN:VEVENT
DTSTART;TZID=UTC:20141201T080000
DTEND;TZID=UTC:20141201T170000
DTSTAMP:20260421T234533
CREATED:20231122T083130Z
LAST-MODIFIED:20231122T083415Z
UID:828-1417420800-1417453200@equalopportunity.uob.edu.bh
SUMMARY:المرأة البحرينية والمجال العسكري
DESCRIPTION:نظمت جامعة البحرين حفلا بمناسبة يوم المرأة البحرينية والذي كان هذا العام مخصص للمرأة في المجال العسكري
URL:https://equalopportunity.uob.edu.bh/event/%d8%a7%d9%84%d9%85%d8%b1%d8%a3%d8%a9-%d8%a7%d9%84%d8%a8%d8%ad%d8%b1%d9%8a%d9%86%d9%8a%d8%a9-%d9%88%d8%a7%d9%84%d9%85%d8%ac%d8%a7%d9%84-%d8%a7%d9%84%d8%b9%d8%b3%d9%83%d8%b1%d9%8a/
ATTACH;FMTTYPE=image/jpeg:https://equalopportunity.uob.edu.bh/wp-content/uploads/2023/11/DSC7727-scaled.jpg
END:VEVENT
BEGIN:VEVENT
DTSTART;TZID=UTC:20131201T080000
DTEND;TZID=UTC:20131201T170000
DTSTAMP:20260421T234533
CREATED:20231122T081704Z
LAST-MODIFIED:20231122T081707Z
UID:788-1385884800-1385917200@equalopportunity.uob.edu.bh
SUMMARY:مجال المرأة والاعلام
DESCRIPTION:احتفلت جامعة البحرين بالمرأة البحرينية في مجال الإعلام في يوم المرأة البحرينية. وكرم رئيس الجامعة عدداً من المنتسبات إلى الجامعة في مجال الإعلام وخريجات الاعلام
URL:https://equalopportunity.uob.edu.bh/event/%d9%85%d8%ac%d8%a7%d9%84-%d8%a7%d9%84%d9%85%d8%b1%d8%a3%d8%a9-%d9%88%d8%a7%d9%84%d8%a7%d8%b9%d9%84%d8%a7%d9%85/
ATTACH;FMTTYPE=image/jpeg:https://equalopportunity.uob.edu.bh/wp-content/uploads/2023/11/7-scaled.jpg
END:VEVENT
BEGIN:VEVENT
DTSTART;TZID=UTC:20121201T080000
DTEND;TZID=UTC:20121201T170000
DTSTAMP:20260421T234533
CREATED:20231122T080736Z
LAST-MODIFIED:20231122T080738Z
UID:784-1354348800-1354381200@equalopportunity.uob.edu.bh
SUMMARY:المرأة والرياضة
DESCRIPTION:نظمت جامعة البحرين حفلا بمناسبة يوم المرأة البحرينية الذي يصادف 1 ديسمبر من كل عام، وتم تكريم البارزات في المجال الرياضي تحت شعار المجلس الأعلى للمرأة “المرأة والرياضة”
URL:https://equalopportunity.uob.edu.bh/event/%d8%a7%d9%84%d9%85%d8%b1%d8%a3%d8%a9-%d9%88%d8%a7%d9%84%d8%b1%d9%8a%d8%a7%d8%b6%d8%a9/
END:VEVENT
BEGIN:VEVENT
DTSTART;TZID=UTC:20111201T080000
DTEND;TZID=UTC:20111201T170000
DTSTAMP:20260421T234533
CREATED:20231122T080334Z
LAST-MODIFIED:20231122T080415Z
UID:779-1322726400-1322758800@equalopportunity.uob.edu.bh
SUMMARY:المرأة البحرينية في التنمية الاقتصادي
DESCRIPTION:نظمت جامعة البحرين حفلا بمناسبة يوم المرأة البحرينية تم خلاله تكريم البارزات في المجال الاقتصادي تحت شعار المجلس الأعلى للمرأة “المرأة البحرينية في التنمية الاقتصادية”
URL:https://equalopportunity.uob.edu.bh/event/%d8%a7%d9%84%d9%85%d8%b1%d8%a3%d8%a9-%d8%a7%d9%84%d8%a8%d8%ad%d8%b1%d9%8a%d9%86%d9%8a%d8%a9-%d9%81%d9%8a-%d8%a7%d9%84%d8%aa%d9%86%d9%85%d9%8a%d8%a9-%d8%a7%d9%84%d8%a7%d9%82%d8%aa%d8%b5%d8%a7%d8%af/
END:VEVENT
BEGIN:VEVENT
DTSTART;TZID=UTC:20101201T080000
DTEND;TZID=UTC:20101201T170000
DTSTAMP:20260421T234533
CREATED:20231122T075843Z
LAST-MODIFIED:20231122T075846Z
UID:761-1291190400-1291222800@equalopportunity.uob.edu.bh
SUMMARY:المرأة البحرينية والعمل التطوعي
DESCRIPTION:كرمت جامعة البحرين عدداً من المتطوعات في مخلتف المجالات العملية، تزامنا مع احتفالات المملة بيوم المرأة البحرينية تحت شعار “المرأة البحرينية والعمل التطوعي”
URL:https://equalopportunity.uob.edu.bh/event/%d8%a7%d9%84%d9%85%d8%b1%d8%a3%d8%a9-%d8%a7%d9%84%d8%a8%d8%ad%d8%b1%d9%8a%d9%86%d9%8a%d8%a9-%d9%88%d8%a7%d9%84%d8%b9%d9%85%d9%84-%d8%a7%d9%84%d8%aa%d8%b7%d9%88%d8%b9%d9%8a/
ATTACH;FMTTYPE=image/jpeg:https://equalopportunity.uob.edu.bh/wp-content/uploads/2023/11/IMG_3991-scaled.jpg
END:VEVENT
BEGIN:VEVENT
DTSTART;TZID=UTC:20091201T080000
DTEND;TZID=UTC:20091201T170000
DTSTAMP:20260421T234533
CREATED:20231122T074817Z
LAST-MODIFIED:20231122T074820Z
UID:737-1259654400-1259686800@equalopportunity.uob.edu.bh
SUMMARY:تكريم المرأة البحرينية في جامعة البحرين
DESCRIPTION:احتفلت جامعة البحرين بتكريم عدد من المنتسبات في الهيئة الأكاديمية والإدارية في يوم المرأة البحرينية، الذي يصادف الأول من ديسمبر في كل عام  
URL:https://equalopportunity.uob.edu.bh/event/%d8%aa%d9%83%d8%b1%d9%8a%d9%85-%d8%a7%d9%84%d9%85%d8%b1%d8%a3%d8%a9-%d8%a7%d9%84%d8%a8%d8%ad%d8%b1%d9%8a%d9%86%d9%8a%d8%a9-%d9%81%d9%8a-%d8%ac%d8%a7%d9%85%d8%b9%d8%a9-%d8%a7%d9%84%d8%a8%d8%ad%d8%b1/
ATTACH;FMTTYPE=image/jpeg:https://equalopportunity.uob.edu.bh/wp-content/uploads/2023/11/SAY_7909-scaled.jpg
END:VEVENT
BEGIN:VEVENT
DTSTART;TZID=UTC:20081201T080000
DTEND;TZID=UTC:20081201T170000
DTSTAMP:20260421T234533
CREATED:20231122T071515Z
LAST-MODIFIED:20231122T072538Z
UID:687-1228118400-1228150800@equalopportunity.uob.edu.bh
SUMMARY:تكريم قدامى الموظفات
DESCRIPTION:احتفت جامعة البحرين بتكريم مجموعة من قدامى الموظفات بمناسبة يوم المرأة البحرينية
URL:https://equalopportunity.uob.edu.bh/event/%d8%aa%d9%83%d8%b1%d9%8a%d9%85-%d9%82%d8%af%d8%a7%d9%85%d9%89-%d8%a7%d9%84%d9%85%d9%88%d8%b8%d9%81%d8%a7%d8%aa/
ATTACH;FMTTYPE=image/jpeg:https://equalopportunity.uob.edu.bh/wp-content/uploads/2023/11/DSC_0798.jpg
END:VEVENT
END:VCALENDAR