BEGIN:VCALENDAR
VERSION:2.0
PRODID:-//Equal Opportunity - ECPv6.3.7//NONSGML v1.0//EN
CALSCALE:GREGORIAN
METHOD:PUBLISH
X-WR-CALNAME:Equal Opportunity
X-ORIGINAL-URL:https://equalopportunity.uob.edu.bh
X-WR-CALDESC:Events for Equal Opportunity
REFRESH-INTERVAL;VALUE=DURATION:PT1H
X-Robots-Tag:noindex
X-PUBLISHED-TTL:PT1H
BEGIN:VTIMEZONE
TZID:UTC
BEGIN:STANDARD
TZOFFSETFROM:+0000
TZOFFSETTO:+0000
TZNAME:UTC
DTSTART:20250101T000000
END:STANDARD
END:VTIMEZONE
BEGIN:VEVENT
DTSTART;TZID=UTC:20251127T110000
DTEND;TZID=UTC:20251127T130000
DTSTAMP:20260421T202024
CREATED:20260114T094739Z
LAST-MODIFIED:20260114T094739Z
UID:2354-1764241200-1764248400@equalopportunity.uob.edu.bh
SUMMARY:يوم صحة الرجل
DESCRIPTION:
URL:https://equalopportunity.uob.edu.bh/event/%d9%8a%d9%88%d9%85-%d8%b5%d8%ad%d8%a9-%d8%a7%d9%84%d8%b1%d8%ac%d9%84/
LOCATION:قاعة STC وبهو الآداب\, جامعة البحرين\, الصخير\, Bahrain
ATTACH;FMTTYPE=image/jpeg:https://equalopportunity.uob.edu.bh/wp-content/uploads/2026/01/IMG_5191.jpeg
END:VEVENT
BEGIN:VEVENT
DTSTART;TZID=UTC:20251130T100000
DTEND;TZID=UTC:20251130T120000
DTSTAMP:20260421T202024
CREATED:20260115T083537Z
LAST-MODIFIED:20260115T083601Z
UID:2526-1764496800-1764504000@equalopportunity.uob.edu.bh
SUMMARY:سياسة المساواة والتنوع والشمول في جامعة البحرين
DESCRIPTION:
URL:https://equalopportunity.uob.edu.bh/event/%d8%b3%d9%8a%d8%a7%d8%b3%d8%a9-%d8%a7%d9%84%d9%85%d8%b3%d8%a7%d9%88%d8%a7%d8%a9-%d9%88%d8%a7%d9%84%d8%aa%d9%86%d9%88%d8%b9-%d9%88%d8%a7%d9%84%d8%b4%d9%85%d9%88%d9%84-%d9%81%d9%8a-%d8%ac%d8%a7%d9%85/
LOCATION:S45\, room 108
ATTACH;FMTTYPE=image/png:https://equalopportunity.uob.edu.bh/wp-content/uploads/2026/01/Equality.png
END:VEVENT
BEGIN:VEVENT
DTSTART;TZID=UTC:20251201T090000
DTEND;TZID=UTC:20251201T110000
DTSTAMP:20260421T202024
CREATED:20260114T093211Z
LAST-MODIFIED:20260211T093713Z
UID:2333-1764579600-1764586800@equalopportunity.uob.edu.bh
SUMMARY:يوم المرأة البحرينية 2025
DESCRIPTION:
URL:https://equalopportunity.uob.edu.bh/event/%d9%8a%d9%88%d9%85-%d8%a7%d9%84%d9%85%d8%b1%d8%a3%d8%a9-%d8%a7%d9%84%d8%a8%d8%ad%d8%b1%d9%8a%d9%86%d9%8a%d8%a9-2025/
LOCATION:الساحة الخارجية خلف الصالة الرياضية – الصخير\, 2GX7+X9G\, Zallaq\, Bahrain\, Bahrain
ATTACH;FMTTYPE=image/jpeg:https://equalopportunity.uob.edu.bh/wp-content/uploads/2026/01/IMG_5180.jpeg
END:VEVENT
END:VCALENDAR