BEGIN:VCALENDAR
VERSION:2.0
PRODID:-//Equal Opportunity - ECPv6.3.7//NONSGML v1.0//EN
CALSCALE:GREGORIAN
METHOD:PUBLISH
X-ORIGINAL-URL:https://equalopportunity.uob.edu.bh
X-WR-CALDESC:Events for Equal Opportunity
REFRESH-INTERVAL;VALUE=DURATION:PT1H
X-Robots-Tag:noindex
X-PUBLISHED-TTL:PT1H
BEGIN:VTIMEZONE
TZID:UTC
BEGIN:STANDARD
TZOFFSETFROM:+0000
TZOFFSETTO:+0000
TZNAME:UTC
DTSTART:20250101T000000
END:STANDARD
END:VTIMEZONE
BEGIN:VEVENT
DTSTART;TZID=UTC:20251014T100000
DTEND;TZID=UTC:20251029T113000
DTSTAMP:20260421T185620
CREATED:20260114T095326Z
LAST-MODIFIED:20260114T100218Z
UID:2359-1760436000-1761737400@equalopportunity.uob.edu.bh
SUMMARY:حملة الجامعة الوردية
DESCRIPTION:أقامت جامعة البحرين حفلاً بمناسبة يوم المرأة البحرينية، لتكريم المتميزات في الجامعة
URL:https://equalopportunity.uob.edu.bh/event/%d8%ad%d9%85%d9%84%d8%a9-%d8%a7%d9%84%d8%ac%d8%a7%d9%85%d8%b9%d8%a9-%d8%a7%d9%84%d9%88%d8%b1%d8%af%d9%8a%d8%a9/
ATTACH;FMTTYPE=image/jpeg:https://equalopportunity.uob.edu.bh/wp-content/uploads/2026/01/IMG_5186.jpeg
END:VEVENT
END:VCALENDAR