BEGIN:VCALENDAR
VERSION:2.0
PRODID:-//Equal Opportunity - ECPv6.3.7//NONSGML v1.0//EN
CALSCALE:GREGORIAN
METHOD:PUBLISH
X-WR-CALNAME:Equal Opportunity
X-ORIGINAL-URL:https://equalopportunity.uob.edu.bh
X-WR-CALDESC:Events for Equal Opportunity
REFRESH-INTERVAL;VALUE=DURATION:PT1H
X-Robots-Tag:noindex
X-PUBLISHED-TTL:PT1H
BEGIN:VTIMEZONE
TZID:UTC
BEGIN:STANDARD
TZOFFSETFROM:+0000
TZOFFSETTO:+0000
TZNAME:UTC
DTSTART:20220101T000000
END:STANDARD
END:VTIMEZONE
BEGIN:VEVENT
DTSTART;TZID=UTC:20221201T080000
DTEND;TZID=UTC:20221201T170000
DTSTAMP:20260424T084856
CREATED:20231122T103128Z
LAST-MODIFIED:20231122T103130Z
UID:1165-1669881600-1669914000@equalopportunity.uob.edu.bh
SUMMARY:مجال شامل للانجازات المتعددة للمراة  "قرأت ، تعلمت ، شاركت"
DESCRIPTION:احتفلت جامعة البحرين يوم الخميس (1 ديسمبر 2022م)، بالمرأة البحرينية في المجال الأكاديمي تحت شعار “قرأت – تعلمت – شاركت”، بمناسبة احتفال المملكة بيوم المرأة البحرينية. 
URL:https://equalopportunity.uob.edu.bh/event/%d9%85%d8%ac%d8%a7%d9%84-%d8%b4%d8%a7%d9%85%d9%84-%d9%84%d9%84%d8%a7%d9%86%d8%ac%d8%a7%d8%b2%d8%a7%d8%aa-%d8%a7%d9%84%d9%85%d8%aa%d8%b9%d8%af%d8%af%d8%a9-%d9%84%d9%84%d9%85%d8%b1%d8%a7%d8%a9-%d9%82/
ATTACH;FMTTYPE=image/jpeg:https://equalopportunity.uob.edu.bh/wp-content/uploads/2023/11/OSMH4196-scaled.jpeg
END:VEVENT
END:VCALENDAR